BEGIN:VCALENDAR
VERSION:2.0
PRODID:-//https://www.bussigny.ch//NONSGML kigkonsult.se iCalcreator 2.41.71//
CALSCALE:GREGORIAN
METHOD:PUBLISH
UID:30376434-3335-4264-b631-613332646139
X-WR-CALNAME:JCal Pro Calendar
X-WR-CALDESC:Your online events calendar
X-WR-TIMEZONE:Europe/Zurich
BEGIN:VTIMEZONE
TZID:Europe/Zurich
TZUNTIL:20271031T010000Z
BEGIN:STANDARD
TZNAME:CET
DTSTART:20251026T030000
TZOFFSETFROM:+0200
TZOFFSETTO:+0100
RDATE:20261025T030000
END:STANDARD
BEGIN:DAYLIGHT
TZNAME:CEST
DTSTART:20260329T020000
TZOFFSETFROM:+0100
TZOFFSETTO:+0200
RDATE:20270328T020000
END:DAYLIGHT
END:VTIMEZONE
BEGIN:VEVENT
UID:20260402T190000UTC-9642RWRdSV@https://www.bussigny.ch/
DTSTAMP:20260424T135939Z
CATEGORIES:Enfance et jeunesse
DESCRIPTION:<p>Des ouvrages nous interpellent\, nous font réfléchir\, rire\
 , frissonner et parfois pleurer. Autant d’émotions qui ne demandent qu’à ê
 tre partagées autour d’un bol de soupe et multiples découvertes culinaires
 . Rejoignez-nous<br />et venez nous présenter vos derniers coups de coeur 
 !</p>\n<p>&nbsp\;</p>\n<hr /><strong>Jeudi</strong><br /><strong>8 janvier
 </strong><br /><strong>5 février</strong><br /><strong>5 mars</strong><br 
 /><strong>2 avril</strong><br /><strong>7 mai</strong><br /><strong>4 juin
 </strong><br /><strong>2026</strong><br /><strong>19h – 22h</strong><br />
 <strong>Dès 16 ans</strong><br /><a href='mailto:bibliotheque@bussigny.ch'
 ><strong>Sur inscription</strong></a><br /><span></span>
DTSTART;TZID=Europe/Zurich:20260507T190000
DTEND;TZID=Europe/Zurich:20260507T220000
SUMMARY:Cercle de lecture
URL:https://www.bussigny.ch/culture-loisirs/les-manifestations/agenda-manif
 estations/88-enfance-et-jeunesse/102790-cercle-de-lecture-2
X-ALT-DESC;FMTTYPE=TEXT/HTML:<p>Des ouvrages nous interpellent\, nous font 
 réfléchir\, rire\, frissonner et parfois pleurer. Autant d’émotions qui ne
  demandent qu’à être partagées autour d’un bol de soupe et multiples décou
 vertes culinaires. Rejoignez-nous<br />et venez nous présenter vos dernier
 s coups de coeur !</p>\n<p>&nbsp\;</p>\n<hr /><strong>Jeudi</strong><br />
 <strong>8 janvier</strong><br /><strong>5 février</strong><br /><strong>5 
 mars</strong><br /><strong>2 avril</strong><br /><strong>7 mai</strong><br
  /><strong>4 juin</strong><br /><strong>2026</strong><br /><strong>19h – 2
 2h</strong><br /><strong>Dès 16 ans</strong><br /><a href='mailto:biblioth
 eque@bussigny.ch'><strong>Sur inscription</strong></a><br /><span></span>
END:VEVENT
END:VCALENDAR
