BEGIN:VCALENDAR
VERSION:2.0
PRODID:-//https://www.bussigny.ch//NONSGML kigkonsult.se iCalcreator 2.41.71//
CALSCALE:GREGORIAN
METHOD:PUBLISH
UID:62363866-3734-4265-b164-306132663332
X-WR-CALNAME:JCal Pro Calendar
X-WR-CALDESC:Your online events calendar
X-WR-TIMEZONE:Europe/Zurich
BEGIN:VTIMEZONE
TZID:Europe/Zurich
TZUNTIL:20271031T010000Z
BEGIN:STANDARD
TZNAME:CET
DTSTART:20251026T030000
TZOFFSETFROM:+0200
TZOFFSETTO:+0100
RDATE:20261025T030000
END:STANDARD
BEGIN:DAYLIGHT
TZNAME:CEST
DTSTART:20260329T020000
TZOFFSETFROM:+0100
TZOFFSETTO:+0200
RDATE:20270328T020000
END:DAYLIGHT
END:VTIMEZONE
BEGIN:VEVENT
UID:20260520T151500UTC-5077fspKh1@https://www.bussigny.ch/
DTSTAMP:20260424T155415Z
CATEGORIES:Enfance et jeunesse
DESCRIPTION:<p>Le papier a 1001 secrets. Il prend vie dans les livres\, les
  lettres… mais on peut aussi le plier pour&nbsp\;réaliser de belles créati
 ons !</p>\n<p>&nbsp\;</p>\n<hr /><strong>Mercredi</strong><br /><strong>20
  mai</strong><br /><strong>2026</strong><br /><strong>15h15 – 17h</strong>
 <br /><strong>Dès 8 ans</strong><br /><a href='mailto:bibliotheque@bussign
 y.ch'><strong>Sur inscription</strong></a><br />
DTSTART;TZID=Europe/Zurich:20260520T151500
DTEND;TZID=Europe/Zurich:20260520T170000
SUMMARY:Atelier Origami
URL:https://www.bussigny.ch/culture-loisirs/les-manifestations/agenda-manif
 estations/88-enfance-et-jeunesse/102806-atelier-origami
X-ALT-DESC;FMTTYPE=TEXT/HTML:<p>Le papier a 1001 secrets. Il prend vie dans
  les livres\, les lettres… mais on peut aussi le plier pour&nbsp\;réaliser
  de belles créations !</p>\n<p>&nbsp\;</p>\n<hr /><strong>Mercredi</strong
 ><br /><strong>20 mai</strong><br /><strong>2026</strong><br /><strong>15h
 15 – 17h</strong><br /><strong>Dès 8 ans</strong><br /><a href='mailto:bib
 liotheque@bussigny.ch'><strong>Sur inscription</strong></a><br />
END:VEVENT
END:VCALENDAR
